BEGIN:VCALENDAR
VERSION:2.0
PRODID:-//ChamberMaster//Event Calendar 2.0//EN
METHOD:PUBLISH
X-PUBLISHED-TTL:P3D
REFRESH-INTERVAL:P3D
CALSCALE:GREGORIAN
BEGIN:VEVENT
DTSTART:20270902T210000Z
DTEND:20270902T220000Z
X-MICROSOFT-CDO-ALLDAYEVENT:FALSE
SUMMARY:Tech Time at the Sinclair Lewis Library
DESCRIPTION:Trouble understanding your laptop\, iPad\, Kindle\, or other electronic device? Would you like to download books from the library website or use eBooks but aren't sure how to? Tech help will be on the first Thursday of the month\, or by other arrangement.\n\n4:00 to 5:00 p.m.
X-ALT-DESC;FMTTYPE=text/html:<span style="color: rgb(8\, 8\, 9)\; font-family: &quot\;Segoe UI Historic&quot\;\, &quot\;Segoe UI&quot\;\, Helvetica\, Arial\, sans-serif\; font-size: 18.75px\; background-color: rgb(255\, 255\, 255)\;">Trouble understanding your laptop\, iPad\, Kindle\, or other electronic device? Would you like to download books from the library website or use eBooks but aren&rsquo\;t sure how to? Tech help will be on the first Thursday of the month\, or by other arrangement.</span><br class="html-br" style="color: rgb(8\, 8\, 9)\; font-family: &quot\;Segoe UI Historic&quot\;\, &quot\;Segoe UI&quot\;\, Helvetica\, Arial\, sans-serif\; font-size: 18.75px\; background-color: rgb(255\, 255\, 255)\; animation-name: none !important\; transition-property: none !important\;" />\n<span style="color: rgb(8\, 8\, 9)\; font-family: &quot\;Segoe UI Historic&quot\;\, &quot\;Segoe UI&quot\;\, Helvetica\, Arial\, sans-serif\; font-size: 18.75px\; background-color: rgb(255\, 255\, 255)\;">4:00 to 5:00 p.m.</span>
LOCATION:Sinclair Lewis Library Sauk Centre\, MN
UID:e.1176.16828
SEQUENCE:3
DTSTAMP:20260420T113855Z
URL:https://www.saukcentrechamber.com/events/details/tech-time-at-the-sinclair-lewis-library-09-02-2027-16828
END:VEVENT

END:VCALENDAR
