BEGIN:VCALENDAR
VERSION:2.0
PRODID:-//ChamberMaster//Event Calendar 2.0//EN
METHOD:PUBLISH
X-PUBLISHED-TTL:P3D
REFRESH-INTERVAL:P3D
CALSCALE:GREGORIAN
BEGIN:VEVENT
DTSTART:20260531T000000Z
DTEND:20260531T030000Z
X-MICROSOFT-CDO-ALLDAYEVENT:FALSE
SUMMARY:Live Music at The Palmer House: Ben Schirmers
DESCRIPTION:Enjoy an evening of live acoustic music at the Palmer House Hotel & Restaurant on Saturday\, May 30th starting at 7:00 PM\, featuring Ben Schirmers.\n\nSettle in for a night of great food\, a welcoming atmosphere\, and laid-back acoustic tunes that are the perfect backdrop to a night out in Sauk Centre. Whether you're grabbing dinner with friends\, enjoying drinks in the pub\, or just looking for a relaxed evening with good music and even better vibes\, the Palmer House delivers every time.\n\nCome early\, stay late\, and make a night of it.
X-ALT-DESC;FMTTYPE=text/html:<p data-end="228" data-start="84"><span style="font-size:16px\;">Enjoy an evening of live acoustic music at the Palmer House Hotel &amp\; Restaurant on Saturday\, May 30th starting at 7:00 PM\, featuring Ben Schirmers.</span></p>\n\n<p data-end="568" data-start="230"><span style="font-size:16px\;">Settle in for a night of great food\, a welcoming atmosphere\, and laid-back acoustic tunes that are the perfect backdrop to a night out in Sauk Centre. Whether you&rsquo\;re grabbing dinner with friends\, enjoying drinks in the pub\, or just looking for a relaxed evening with good music and even better vibes\, the Palmer House delivers every time.</span></p>\n\n<p data-end="616" data-is-last-node="" data-is-only-node="" data-start="570"><span style="font-size:16px\;">Come early\, stay late\, and make a night of it.</span></p>\n
LOCATION:The Palmer House
UID:e.1176.17837
SEQUENCE:3
DTSTAMP:20260419T130132Z
URL:https://www.saukcentrechamber.com/events/details/live-music-at-the-palmer-house-ben-schirmers-17837
END:VEVENT

END:VCALENDAR
